BEGIN:VCALENDAR
VERSION:2.0
PRODID:-//MaineStreet Business Building - ECPv6.15.20//NONSGML v1.0//EN
CALSCALE:GREGORIAN
METHOD:PUBLISH
X-ORIGINAL-URL:https://mainestreetbusiness.org
X-WR-CALDESC:Events for MaineStreet Business Building
REFRESH-INTERVAL;VALUE=DURATION:PT1H
X-Robots-Tag:noindex
X-PUBLISHED-TTL:PT1H
BEGIN:VTIMEZONE
TZID:UTC
BEGIN:STANDARD
TZOFFSETFROM:+0000
TZOFFSETTO:+0000
TZNAME:UTC
DTSTART:20240101T000000
END:STANDARD
END:VTIMEZONE
BEGIN:VEVENT
DTSTART;TZID=UTC:20251023T140000
DTEND;TZID=UTC:20251023T170000
DTSTAMP:20260419T182439
CREATED:20240806T092705Z
LAST-MODIFIED:20250815T191337Z
UID:25784-1761228000-1761238800@mainestreetbusiness.org
SUMMARY:All Things Legal
DESCRIPTION:2:00 – 3:30 pm: \nIn All Things Legal: Navigating the Legal Landscape at Startup\, you’ll get acquainted with the legal aspects of starting a business. This workshop covers business licenses\, permits\, zoning laws\, and other legal requirements. Learn the legal distinctions between independent contractors and employees. Understand the implications for hiring\, taxes\, and compliance to ensure you’re following the law. \nSign up to attend this workshop \n3:45 – 5:00 pm: \nThen\, in All Things Legal: Hiring Essentials\, you’ll learn the legal distinctions between independent contractors and employees. Understand the implications for hiring\, taxes\, and compliance to ensure you’re following the law. \nSign up to attend this workshop \n  \n 
URL:https://mainestreetbusiness.org/event/all-things-legal/
CATEGORIES:Courses,Pathways 1.0: Venture Exploration
ATTACH;FMTTYPE=image/png:https://mainestreetbusiness.org/wp-content/uploads/2024/08/26.png
END:VEVENT
END:VCALENDAR