BEGIN:VCALENDAR
VERSION:2.0
PRODID:-//MaineStreet Business Building - ECPv6.15.20//NONSGML v1.0//EN
CALSCALE:GREGORIAN
METHOD:PUBLISH
X-ORIGINAL-URL:https://mainestreetbusiness.org
X-WR-CALDESC:Events for MaineStreet Business Building
REFRESH-INTERVAL;VALUE=DURATION:PT1H
X-Robots-Tag:noindex
X-PUBLISHED-TTL:PT1H
BEGIN:VTIMEZONE
TZID:UTC
BEGIN:STANDARD
TZOFFSETFROM:+0000
TZOFFSETTO:+0000
TZNAME:UTC
DTSTART:20240101T000000
END:STANDARD
END:VTIMEZONE
BEGIN:VEVENT
DTSTART;TZID=UTC:20251016T140000
DTEND;TZID=UTC:20251016T170000
DTSTAMP:20260420T084617
CREATED:20240806T091355Z
LAST-MODIFIED:20250815T190920Z
UID:25778-1760623200-1760634000@mainestreetbusiness.org
SUMMARY:Branding Basics & SWOT Analysis
DESCRIPTION:2:00 – 3:30 pm: \nIn Branding Basics: What is Your Business’s Personality? you’ll discover how to develop a strong brand identity that resonates with your target audience. We’ll cover branding basics\, including logo design\, color schemes\, and brand messaging. \nSign up to attend this workshop \n3:45 – 5:00 pm: \nThen\, in SWOT Analysis: Assess Your Business Landscape\, you’ll conduct a SWOT analysis to identify your business’s strengths\, weaknesses\, opportunities\, and threats. Use this powerful tool to make informed strategic decisions. \nSign up to attend this workshop \nWant to take Pathways 1.0: Venture Exploration for college credit? Complete MSBB’s Registration Form and WCCC’s Enrollment Form
URL:https://mainestreetbusiness.org/event/branding-basics-swot-analysis/
CATEGORIES:Courses,Pathways 1.0: Venture Exploration
ATTACH;FMTTYPE=image/png:https://mainestreetbusiness.org/wp-content/uploads/2025/08/25.png
END:VEVENT
END:VCALENDAR