BEGIN:VCALENDAR
VERSION:2.0
PRODID:-//MaineStreet Business Building - ECPv6.15.20//NONSGML v1.0//EN
CALSCALE:GREGORIAN
METHOD:PUBLISH
X-WR-CALNAME:MaineStreet Business Building
X-ORIGINAL-URL:https://mainestreetbusiness.org
X-WR-CALDESC:Events for MaineStreet Business Building
REFRESH-INTERVAL;VALUE=DURATION:PT1H
X-Robots-Tag:noindex
X-PUBLISHED-TTL:PT1H
BEGIN:VTIMEZONE
TZID:UTC
BEGIN:STANDARD
TZOFFSETFROM:+0000
TZOFFSETTO:+0000
TZNAME:UTC
DTSTART:20230101T000000
END:STANDARD
END:VTIMEZONE
BEGIN:VEVENT
DTSTART;TZID=UTC:20240808T110000
DTEND;TZID=UTC:20240808T130000
DTSTAMP:20260421T162525
CREATED:20240806T110410Z
LAST-MODIFIED:20240806T110410Z
UID:25817-1723114800-1723122000@mainestreetbusiness.org
SUMMARY:Small Business & Entrepreneurship Drop-In Hours
DESCRIPTION:Don’t miss our community outreach event at Peabody Memorial Library in Jonesport on Thursday\, August 8th from 11:00 AM to 1:00 PM! Come to the library at 162 Main Street\, Jonesport\, and chat with team members from Sunrise County Economic Council. See you there! \nFor updates\, please follow our Facebook event page!
URL:https://mainestreetbusiness.org/event/drop-in-hours-jonesport/
LOCATION:Peabody Memorial Library\, 162 Main Street\, Jonesport\, ME\, United States
CATEGORIES:Drop-In Hours,Small Business & Entrepreneurship Resources
ATTACH;FMTTYPE=image/jpeg:https://mainestreetbusiness.org/wp-content/uploads/2024/08/453155202_941200144708625_7359935036195678045_n.jpg
END:VEVENT
BEGIN:VEVENT
DTSTART;TZID=UTC:20240828T100000
DTEND;TZID=UTC:20240828T120000
DTSTAMP:20260421T162525
CREATED:20240806T111045Z
LAST-MODIFIED:20240806T111045Z
UID:25827-1724839200-1724846400@mainestreetbusiness.org
SUMMARY:Small Business & Entrepreneurship Drop-In Hours (Eastport)
DESCRIPTION:Team members from Sunrise County Economic Council’s (SCEC) Small Business & Entrepreneurship team\, along with representatives from CareerCenter\, will be at Peavey Memorial Library\, 26 Water Street\, Eastport\, for drop-in hours on August 28th. SCEC staff will be available from 10:00 AM to 12:00 PM\, and CareerCenter staff will be there from 10:00 AM to 3:00 PM. Be sure to stop by – we’re here to listen\, support\, and connect with you. \nSee updates on our Facebook Event page!
URL:https://mainestreetbusiness.org/event/small-business-entrepreneurship-drop-in-hours-eastport/
LOCATION:Peavey Memorial Library\, 26 Water Street\, Eastport\, ME\, United States
CATEGORIES:Drop-In Hours,Small Business & Entrepreneurship Resources
ATTACH;FMTTYPE=image/png:https://mainestreetbusiness.org/wp-content/uploads/2024/08/Facebook-Event-Cover-photo-2.png
END:VEVENT
END:VCALENDAR