BEGIN:VCALENDAR
VERSION:2.0
PRODID:-//MaineStreet Business Building - ECPv6.15.20//NONSGML v1.0//EN
CALSCALE:GREGORIAN
METHOD:PUBLISH
X-WR-CALNAME:MaineStreet Business Building
X-ORIGINAL-URL:https://mainestreetbusiness.org
X-WR-CALDESC:Events for MaineStreet Business Building
REFRESH-INTERVAL;VALUE=DURATION:PT1H
X-Robots-Tag:noindex
X-PUBLISHED-TTL:PT1H
BEGIN:VTIMEZONE
TZID:UTC
BEGIN:STANDARD
TZOFFSETFROM:+0000
TZOFFSETTO:+0000
TZNAME:UTC
DTSTART:20230101T000000
END:STANDARD
END:VTIMEZONE
BEGIN:VEVENT
DTSTART;TZID=UTC:20241017T140000
DTEND;TZID=UTC:20241017T180000
DTSTAMP:20260421T133648
CREATED:20241010T132641Z
LAST-MODIFIED:20241010T132641Z
UID:26272-1729173600-1729188000@mainestreetbusiness.org
SUMMARY:Business Resources and Contracting 101
DESCRIPTION:Drop in hours for Business Resources and Contracting 101. Jessica Crowley will be available to answer any questions you may have about growing your business in Downeast Maine.\n\n\n\nAlso\, as the Maine APEX Counselor at SCEC\, Jessica can help you learn more about securing federal contracts for your goods or services.\n\n\n\n\n\nFrom funding resources to technology tools you can use to propel your existing business or idea\, we will have a list of available resources ready for you.
URL:https://mainestreetbusiness.org/event/business-resources-and-contracting-101/
LOCATION:EMDC Office\, 248 State Street\, Suite 15A\, Ellsworth\, ME\, 04605
CATEGORIES:Drop-In Hours,Small Business & Entrepreneurship Resources
ATTACH;FMTTYPE=image/png:https://mainestreetbusiness.org/wp-content/uploads/2024/10/MSBB-after-hours-3.png
END:VEVENT
END:VCALENDAR