BEGIN:VCALENDAR
VERSION:2.0
PRODID:-//MaineStreet Business Building - ECPv6.15.20//NONSGML v1.0//EN
CALSCALE:GREGORIAN
METHOD:PUBLISH
X-ORIGINAL-URL:https://mainestreetbusiness.org
X-WR-CALDESC:Events for MaineStreet Business Building
REFRESH-INTERVAL;VALUE=DURATION:PT1H
X-Robots-Tag:noindex
X-PUBLISHED-TTL:PT1H
BEGIN:VTIMEZONE
TZID:UTC
BEGIN:STANDARD
TZOFFSETFROM:+0000
TZOFFSETTO:+0000
TZNAME:UTC
DTSTART:20240101T000000
END:STANDARD
END:VTIMEZONE
BEGIN:VEVENT
DTSTART;TZID=UTC:20251006T140000
DTEND;TZID=UTC:20251006T150000
DTSTAMP:20260419T140925
CREATED:20250915T223620Z
LAST-MODIFIED:20250915T223620Z
UID:27010-1759759200-1759762800@mainestreetbusiness.org
SUMMARY:Get to Know MSBB
DESCRIPTION:Get to Know MSBB\nGet to know the staff of MaineStreet Business Building and learn about the services that each provides (most at no-cost) to Washington County residents\, business owners\, and entrepreneurs! \nAvailable services include:\n– Business advising\n– Courses and workshops for small businesses\n– Technology assistance\n– Business transition services\n– Grant and loan program assistance\n– Guidance on the Washington County Recovery\n– Friendly Workplace Network\n– Help with winning federal contracts for your\nproducts or services\n– Workforce training and college credit \nRegister here!
URL:https://mainestreetbusiness.org/event/get-to-know-msbb/
LOCATION:Online via Zoom
CATEGORIES:Drop-In Hours
ATTACH;FMTTYPE=image/png:https://mainestreetbusiness.org/wp-content/uploads/2025/09/GetToKnowMSBB.png
END:VEVENT
END:VCALENDAR